BEGIN:VCALENDAR
VERSION:2.0
PRODID:-//Musikverein Eggenertal e.V. - ECPv6.15.18//NONSGML v1.0//EN
CALSCALE:GREGORIAN
METHOD:PUBLISH
X-ORIGINAL-URL:https://musikverein-eggenertal.de
X-WR-CALDESC:Veranstaltungen für Musikverein Eggenertal e.V.
REFRESH-INTERVAL;VALUE=DURATION:PT1H
X-Robots-Tag:noindex
X-PUBLISHED-TTL:PT1H
BEGIN:VTIMEZONE
TZID:Europe/Berlin
BEGIN:DAYLIGHT
TZOFFSETFROM:+0100
TZOFFSETTO:+0200
TZNAME:CEST
DTSTART:20250330T010000
END:DAYLIGHT
BEGIN:STANDARD
TZOFFSETFROM:+0200
TZOFFSETTO:+0100
TZNAME:CET
DTSTART:20251026T010000
END:STANDARD
BEGIN:DAYLIGHT
TZOFFSETFROM:+0100
TZOFFSETTO:+0200
TZNAME:CEST
DTSTART:20260329T010000
END:DAYLIGHT
BEGIN:STANDARD
TZOFFSETFROM:+0200
TZOFFSETTO:+0100
TZNAME:CET
DTSTART:20261025T010000
END:STANDARD
BEGIN:DAYLIGHT
TZOFFSETFROM:+0100
TZOFFSETTO:+0200
TZNAME:CEST
DTSTART:20270328T010000
END:DAYLIGHT
BEGIN:STANDARD
TZOFFSETFROM:+0200
TZOFFSETTO:+0100
TZNAME:CET
DTSTART:20271031T010000
END:STANDARD
END:VTIMEZONE
BEGIN:VEVENT
DTSTART;VALUE=DATE:20260501
DTEND;VALUE=DATE:20260502
DTSTAMP:20260424T135025
CREATED:20260204T155116Z
LAST-MODIFIED:20260204T155116Z
UID:19930-1777593600-1777679999@musikverein-eggenertal.de
SUMMARY:Traditionelles Maiwecken
DESCRIPTION:Marsch- und Maimusik durch die Dörfer
URL:https://musikverein-eggenertal.de/termine/traditionelles-maiwecken-2/
LOCATION:Obereggenen & Schallsingen
END:VEVENT
BEGIN:VEVENT
DTSTART;TZID=Europe/Berlin:20260510T113000
DTEND;TZID=Europe/Berlin:20260510T130000
DTSTAMP:20260424T135025
CREATED:20260206T104936Z
LAST-MODIFIED:20260206T104936Z
UID:19960-1778412600-1778418000@musikverein-eggenertal.de
SUMMARY:Frühlingsfest MV Malsburg-Marzell
DESCRIPTION:Unterhaltungskonzert
URL:https://musikverein-eggenertal.de/termine/fruehlingsfest-mv-malsburg-marzell/
LOCATION:Edenbachhalle Malsburg
END:VEVENT
BEGIN:VEVENT
DTSTART;TZID=Europe/Berlin:20260605T183000
DTEND;TZID=Europe/Berlin:20260605T193000
DTSTAMP:20260424T135025
CREATED:20260407T153837Z
LAST-MODIFIED:20260407T153837Z
UID:19974-1780684200-1780687800@musikverein-eggenertal.de
SUMMARY:Ständchen für Alfred Jung
DESCRIPTION:Zum Geburtstag unseres Passiv-Mitglieds
URL:https://musikverein-eggenertal.de/termine/staendchen-fuer-alfred-jung/
LOCATION:Sitzenkirch
END:VEVENT
BEGIN:VEVENT
DTSTART;TZID=Europe/Berlin:20260614T110000
DTEND;TZID=Europe/Berlin:20260614T123000
DTSTAMP:20260424T135025
CREATED:20250725T064136Z
LAST-MODIFIED:20260204T155354Z
UID:19836-1781434800-1781440200@musikverein-eggenertal.de
SUMMARY:Frühschoppenkonzert Stadtmusik Kandern
DESCRIPTION:Unterhaltungskonzert des MVE
URL:https://musikverein-eggenertal.de/termine/fruehschoppenkonzert-stadtmusik-kandern/
LOCATION:Mühlischopf Riedlingen
END:VEVENT
BEGIN:VEVENT
DTSTART;VALUE=DATE:20260621
DTEND;VALUE=DATE:20260622
DTSTAMP:20260424T135025
CREATED:20260204T155543Z
LAST-MODIFIED:20260204T155543Z
UID:19938-1782000000-1782086399@musikverein-eggenertal.de
SUMMARY:Sommerfest
DESCRIPTION:Sommerhock auf dem Rathausplatz
URL:https://musikverein-eggenertal.de/termine/sommerfest/
LOCATION:Rathausplatz Obereggenen
END:VEVENT
BEGIN:VEVENT
DTSTART;VALUE=DATE:20260705
DTEND;VALUE=DATE:20260706
DTSTAMP:20260424T135025
CREATED:20260204T155649Z
LAST-MODIFIED:20260204T155649Z
UID:19941-1783209600-1783295999@musikverein-eggenertal.de
SUMMARY:Jugendkonzert
DESCRIPTION:Konzert verschiedener Jugendformationen im Bürger- und Gästehaus Schliengen
URL:https://musikverein-eggenertal.de/termine/jugendkonzert-2/
LOCATION:Bürger- & Gästehaus Schliengen
END:VEVENT
BEGIN:VEVENT
DTSTART;VALUE=DATE:20260724
DTEND;VALUE=DATE:20260725
DTSTAMP:20260424T135025
CREATED:20260209T145308Z
LAST-MODIFIED:20260209T145308Z
UID:19964-1784851200-1784937599@musikverein-eggenertal.de
SUMMARY:Platzkonzert Landhotel Graf
DESCRIPTION:Unterhaltungskonzert des MVE
URL:https://musikverein-eggenertal.de/termine/platzkonzert-landhotel-graf-2/
LOCATION:Landhotel Graf Obereggenen
END:VEVENT
BEGIN:VEVENT
DTSTART;VALUE=DATE:20260730
DTEND;VALUE=DATE:20260731
DTSTAMP:20260424T135025
CREATED:20260204T155802Z
LAST-MODIFIED:20260204T155802Z
UID:19943-1785369600-1785455999@musikverein-eggenertal.de
SUMMARY:Offene Probe
DESCRIPTION:Offene Probe mit Musik und Bewirtung auf dem Rathausplatz Obereggenen
URL:https://musikverein-eggenertal.de/termine/offene-probe-3/
LOCATION:Rathausplatz Obereggenen
END:VEVENT
BEGIN:VEVENT
DTSTART;VALUE=DATE:20261003
DTEND;VALUE=DATE:20261004
DTSTAMP:20260424T135025
CREATED:20260204T155956Z
LAST-MODIFIED:20260204T155956Z
UID:19945-1790985600-1791071999@musikverein-eggenertal.de
SUMMARY:Herbstfest Liel
DESCRIPTION:Unterhaltungskonzert auf dem Herbstfest der Schlurbis in Liel
URL:https://musikverein-eggenertal.de/termine/herbstfest-liel/
LOCATION:Schlossgartenhalle Liel
END:VEVENT
BEGIN:VEVENT
DTSTART;VALUE=DATE:20261017
DTEND;VALUE=DATE:20261018
DTSTAMP:20260424T135025
CREATED:20260204T160128Z
LAST-MODIFIED:20260204T160128Z
UID:19948-1792195200-1792281599@musikverein-eggenertal.de
SUMMARY:Ständchen für Hannelore Karlin
DESCRIPTION:Zum Geburtstag unseres Passiv-Mitglieds
URL:https://musikverein-eggenertal.de/termine/staendchen-fuer-hannelore-karlin/
LOCATION:Liel
END:VEVENT
BEGIN:VEVENT
DTSTART;VALUE=DATE:20261107
DTEND;VALUE=DATE:20261109
DTSTAMP:20260424T135025
CREATED:20260204T160303Z
LAST-MODIFIED:20260204T160303Z
UID:19952-1794009600-1794182399@musikverein-eggenertal.de
SUMMARY:Probewochenende MVE
DESCRIPTION:Interner Termin \nProbenwochenende des MVE
URL:https://musikverein-eggenertal.de/termine/probewochenende-mve-2/
LOCATION:Blauenhalle Obereggenen
END:VEVENT
BEGIN:VEVENT
DTSTART;VALUE=DATE:20261128
DTEND;VALUE=DATE:20261129
DTSTAMP:20260424T135025
CREATED:20260204T160415Z
LAST-MODIFIED:20260204T160415Z
UID:19954-1795824000-1795910399@musikverein-eggenertal.de
SUMMARY:Jahreskonzert 2026
DESCRIPTION:Konzert des MVE und JOE
URL:https://musikverein-eggenertal.de/termine/jahreskonzert-2026/
LOCATION:Blauenhalle Obereggenen
END:VEVENT
BEGIN:VEVENT
DTSTART;VALUE=DATE:20261212
DTEND;VALUE=DATE:20261213
DTSTAMP:20260424T135025
CREATED:20260204T160527Z
LAST-MODIFIED:20260204T160527Z
UID:19956-1797033600-1797119999@musikverein-eggenertal.de
SUMMARY:Lieler Dorfweihnacht
DESCRIPTION:Weihnachtslieder-Spielen des Jugendorchesters Eggenertal
URL:https://musikverein-eggenertal.de/termine/lieler-dorfweihnacht-2/
LOCATION:Liel
END:VEVENT
BEGIN:VEVENT
DTSTART;VALUE=DATE:20261223
DTEND;VALUE=DATE:20261224
DTSTAMP:20260424T135025
CREATED:20260204T160636Z
LAST-MODIFIED:20260204T160636Z
UID:19958-1797984000-1798070399@musikverein-eggenertal.de
SUMMARY:Musik unter'm Weihnachsbaum
DESCRIPTION:Musik unter’m Weihnachsbaum auf dem Kanonenplatz Niedereggenen
URL:https://musikverein-eggenertal.de/termine/musik-unterm-weihnachsbaum-4/
LOCATION:Kanonenplatz Niedereggenen
END:VEVENT
END:VCALENDAR